BEGIN:VCALENDAR
VERSION:2.0
PRODID:-//Online Writer Workshops - ECPv6.15.20//NONSGML v1.0//EN
CALSCALE:GREGORIAN
METHOD:PUBLISH
X-ORIGINAL-URL:https://onlinewriterworkshops.com
X-WR-CALDESC:Events for Online Writer Workshops
REFRESH-INTERVAL;VALUE=DURATION:PT1H
X-Robots-Tag:noindex
X-PUBLISHED-TTL:PT1H
BEGIN:VTIMEZONE
TZID:America/Chicago
BEGIN:DAYLIGHT
TZOFFSETFROM:-0600
TZOFFSETTO:-0500
TZNAME:CDT
DTSTART:20250309T080000
END:DAYLIGHT
BEGIN:STANDARD
TZOFFSETFROM:-0500
TZOFFSETTO:-0600
TZNAME:CST
DTSTART:20251102T070000
END:STANDARD
BEGIN:DAYLIGHT
TZOFFSETFROM:-0600
TZOFFSETTO:-0500
TZNAME:CDT
DTSTART:20260308T080000
END:DAYLIGHT
BEGIN:STANDARD
TZOFFSETFROM:-0500
TZOFFSETTO:-0600
TZNAME:CST
DTSTART:20261101T070000
END:STANDARD
BEGIN:DAYLIGHT
TZOFFSETFROM:-0600
TZOFFSETTO:-0500
TZNAME:CDT
DTSTART:20270314T080000
END:DAYLIGHT
BEGIN:STANDARD
TZOFFSETFROM:-0500
TZOFFSETTO:-0600
TZNAME:CST
DTSTART:20271107T070000
END:STANDARD
END:VTIMEZONE
BEGIN:VEVENT
DTSTART;VALUE=DATE:20260416
DTEND;VALUE=DATE:20260419
DTSTAMP:20260423T234916
CREATED:20251230T001835Z
LAST-MODIFIED:20251230T002024Z
UID:3895-1776297600-1776556799@onlinewriterworkshops.com
SUMMARY:Writing for Success: Launching Your Career into the Stratosphere
DESCRIPTION:🌟 CALLING ALL WRITERS! 🌟  \nAre you ready to LAUNCH YOUR CAREER INTO THE STRATOSPHERE? \nThe Writing for Success conference is coming to Cocoa Beach’s Hilton Garden Inn April 17-19\, 2026\, and it’s going to be EPIC! \n💫 Three days of pure writing magic: \n\n🎯 12 workshops\n🎯 3-hour master workshop with Amazon Top 100 bestselling author Sarra Cannon\n🎯 In-person pitches with editors from Tule Publishing and Wild Rose Press\n🎯 2 breakfasts + 1 lunch included \n🎯 Evening with the Stars reader event\n🎯 Incredible venue\n🎯 Only $200 for FSFW members / $230 non-members\n\nPlus – don’t miss our Evening with the Stars book signing event on opening night! Goody bags\, complimentary desserts\, cash bar\, raffles\, book cover contest\, and SO much more! Limited author signing tables available exclusively to conference attendees! \nWho’s ready to reach for the stars? ⭐✍️ \nConference website with workshops\, presenters\, and registration link: https://www.floridastarwriters.com/writing-for-success/ \nAbout the Instructor\nThis conference includes 12 workshops led by dynamic industry professionals\, and closes out with a three-hour Master Workshop by Sarra Cannon. \nSpeakers\, their bios\, and workshops are listed on our website: https://www.floridastarwriters.com/writing-for-success/ \nRegistration: Register here
URL:https://onlinewriterworkshops.com/event/writing-for-success-launching-your-career-into-the-stratosphere/
ATTACH;FMTTYPE=image/jpeg:https://onlinewriterworkshops.com/wp-content/uploads/2025/12/Orange-Border-scaled.jpg
END:VEVENT
END:VCALENDAR