BEGIN:VCALENDAR
VERSION:2.0
PRODID:-//Online Writer Workshops - ECPv6.15.20//NONSGML v1.0//EN
CALSCALE:GREGORIAN
METHOD:PUBLISH
X-WR-CALNAME:Online Writer Workshops
X-ORIGINAL-URL:https://onlinewriterworkshops.com
X-WR-CALDESC:Events for Online Writer Workshops
REFRESH-INTERVAL;VALUE=DURATION:PT1H
X-Robots-Tag:noindex
X-PUBLISHED-TTL:PT1H
BEGIN:VTIMEZONE
TZID:America/Chicago
BEGIN:DAYLIGHT
TZOFFSETFROM:-0600
TZOFFSETTO:-0500
TZNAME:CDT
DTSTART:20250309T080000
END:DAYLIGHT
BEGIN:STANDARD
TZOFFSETFROM:-0500
TZOFFSETTO:-0600
TZNAME:CST
DTSTART:20251102T070000
END:STANDARD
BEGIN:DAYLIGHT
TZOFFSETFROM:-0600
TZOFFSETTO:-0500
TZNAME:CDT
DTSTART:20260308T080000
END:DAYLIGHT
BEGIN:STANDARD
TZOFFSETFROM:-0500
TZOFFSETTO:-0600
TZNAME:CST
DTSTART:20261101T070000
END:STANDARD
BEGIN:DAYLIGHT
TZOFFSETFROM:-0600
TZOFFSETTO:-0500
TZNAME:CDT
DTSTART:20270314T080000
END:DAYLIGHT
BEGIN:STANDARD
TZOFFSETFROM:-0500
TZOFFSETTO:-0600
TZNAME:CST
DTSTART:20271107T070000
END:STANDARD
END:VTIMEZONE
BEGIN:VEVENT
DTSTART;VALUE=DATE:20260123
DTEND;VALUE=DATE:20260124
DTSTAMP:20260424T105910
CREATED:20251230T001326Z
LAST-MODIFIED:20251230T001448Z
UID:3886-1769126400-1769212799@onlinewriterworkshops.com
SUMMARY:Hacked to Hijacked: How to Protect Your Author Platform
DESCRIPTION:If you have a website\, a newsletter\, or social media accounts for your writing\, this workshop is for you. \nYou do not need to be tech-savvy to get hacked. Most authors who lose access to their platforms did not do anything “wrong.” They clicked a link that looked legitimate\, reused a password one too many times\, or trusted a tool they had used for years. What starts as a small mistake can quickly turn into losing control of your website\, email list\, or social media accounts. \nThis workshop breaks down what is really happening behind the scenes in plain language. We will talk about how author accounts actually get compromised\, what warning signs people usually miss\, and what steps you can take to protect yourself without feeling overwhelmed or intimidated. \nYou will learn simple\, realistic ways to secure your author platform\, even if the idea of “tech stuff” makes your eyes glaze over. No jargon. No scare tactics. Just clear explanations and practical steps you can actually follow. \nIn this workshop\, you will learn: \n\n\nWhat “your author platform” includes and why it matters \n\n\nThe most common ways authors get hacked or locked out \n\n\nHow to spot red flags before things spiral \n\n\nEasy security steps that make a big difference \n\n\nWhat to do if something goes wrong and you are not sure where to start \n\n\nThis session is about helping you protect the work you have already poured your time\, heart\, and money into\, without adding more stress to your plate. \nIf you have ever thought\, “I hope this never happens to me\,” this workshop will help make sure it does not. \nAbout the Instructor\nNicole R. Locker is an author\, platform strategist\, and the founder of Fiction Refinery Studio\, where she helps writers build and protect sustainable online platforms. She has been self-publishing and managing author platforms since 2013\, with hands-on experience across websites\, email lists\, and social media. \nA member of Contemporary Romance Writers since 2017 and a board member since 2019\, Nicole supports the writing community through leadership\, education\, and technical infrastructure. She is also the creator of RomanceBooks.Blog and Online Writer Workshops\, platforms designed to help authors and writing organizations reach wider audiences. \nNicole holds a Bachelor of Arts and a Master of Science in psychology and brings a practical\, people-centered approach to platform security. She lives in Lubbock\, Texas\, with her adopted son and two dogs. Her own contemporary romance platform can be found at nicolerlocker.com. \nPlatform: Zoom \nRegistration: Register here
URL:https://onlinewriterworkshops.com/event/hacked-to-hijacked-how-to-protect-your-author-platform/
LOCATION:Zoom
ATTACH;FMTTYPE=image/jpeg:https://onlinewriterworkshops.com/wp-content/uploads/2025/12/Hacked-to-Hijacked-How-to-Protect-Your-Author-Platform.jpg
END:VEVENT
END:VCALENDAR