BEGIN:VCALENDAR
VERSION:2.0
PRODID:-//Online Writer Workshops - ECPv6.15.20//NONSGML v1.0//EN
CALSCALE:GREGORIAN
METHOD:PUBLISH
X-WR-CALNAME:Online Writer Workshops
X-ORIGINAL-URL:https://onlinewriterworkshops.com
X-WR-CALDESC:Events for Online Writer Workshops
REFRESH-INTERVAL;VALUE=DURATION:PT1H
X-Robots-Tag:noindex
X-PUBLISHED-TTL:PT1H
BEGIN:VTIMEZONE
TZID:America/Chicago
BEGIN:DAYLIGHT
TZOFFSETFROM:-0600
TZOFFSETTO:-0500
TZNAME:CDT
DTSTART:20250309T080000
END:DAYLIGHT
BEGIN:STANDARD
TZOFFSETFROM:-0500
TZOFFSETTO:-0600
TZNAME:CST
DTSTART:20251102T070000
END:STANDARD
BEGIN:DAYLIGHT
TZOFFSETFROM:-0600
TZOFFSETTO:-0500
TZNAME:CDT
DTSTART:20260308T080000
END:DAYLIGHT
BEGIN:STANDARD
TZOFFSETFROM:-0500
TZOFFSETTO:-0600
TZNAME:CST
DTSTART:20261101T070000
END:STANDARD
BEGIN:DAYLIGHT
TZOFFSETFROM:-0600
TZOFFSETTO:-0500
TZNAME:CDT
DTSTART:20270314T080000
END:DAYLIGHT
BEGIN:STANDARD
TZOFFSETFROM:-0500
TZOFFSETTO:-0600
TZNAME:CST
DTSTART:20271107T070000
END:STANDARD
END:VTIMEZONE
BEGIN:VEVENT
DTSTART;VALUE=DATE:20260227
DTEND;VALUE=DATE:20260228
DTSTAMP:20260423T224609
CREATED:20251230T001717Z
LAST-MODIFIED:20251230T002059Z
UID:3891-1772150400-1772236799@onlinewriterworkshops.com
SUMMARY:Website Wizardry
DESCRIPTION:Tired of your author website collecting digital cobwebs instead of superfans? Step into Website Wizardry: Quick-Cast Spells for Author Visibility\, a power-packed session that shows you how to turn your dusty platform into a magnetic reader hub with clear homepages\, irresistible book pages\, and list-building magic tailored for authors.  Guided by award-winning author and Geek Girl Publishing owner Denise Mullinex\, you will learn practical\, easy-to-implement website essentials that help readers find you\, fall for you\, and actually click “buy.” \n\nAbout the Instructor\nDenise Alicea is a social media and technology professional with extensive experience in IT and several years as a certified trainer at Apple\, where she discovered a passion for empowering people through technology. Drawing on her background in Marketing\, Public Relations\, and Creative Writing\, as well as deep expertise with WordPress\, she now leverages this blend of creative and technical skills to support authors\, entrepreneurs\, and small businesses in building effective digital platforms. \nAn award-winning author and longstanding professional book blogger\, Denise is also the owner of Geek Girl Publishing and founder of The Pen and Muse Book Reviews\, roles that have given her a unique perspective on both sides of the publishing landscape.  She has shared her insights as a speaker at Book Expo America\, The BookFest\, and multiple chapters of Romance Writers of America\, where she helps writers better understand online visibility\, branding\, and audience engagement. \nPlatform: Zoom \nRegistration: Register here
URL:https://onlinewriterworkshops.com/event/website-wizardry/
LOCATION:Zoom
ATTACH;FMTTYPE=image/jpeg:https://onlinewriterworkshops.com/wp-content/uploads/2025/12/Website-Wizardry.jpg
END:VEVENT
END:VCALENDAR