BEGIN:VCALENDAR
VERSION:2.0
PRODID:-//Online Writer Workshops - ECPv6.15.20//NONSGML v1.0//EN
CALSCALE:GREGORIAN
METHOD:PUBLISH
X-ORIGINAL-URL:https://onlinewriterworkshops.com
X-WR-CALDESC:Events for Online Writer Workshops
REFRESH-INTERVAL;VALUE=DURATION:PT1H
X-Robots-Tag:noindex
X-PUBLISHED-TTL:PT1H
BEGIN:VTIMEZONE
TZID:America/Chicago
BEGIN:DAYLIGHT
TZOFFSETFROM:-0600
TZOFFSETTO:-0500
TZNAME:CDT
DTSTART:20250309T080000
END:DAYLIGHT
BEGIN:STANDARD
TZOFFSETFROM:-0500
TZOFFSETTO:-0600
TZNAME:CST
DTSTART:20251102T070000
END:STANDARD
BEGIN:DAYLIGHT
TZOFFSETFROM:-0600
TZOFFSETTO:-0500
TZNAME:CDT
DTSTART:20260308T080000
END:DAYLIGHT
BEGIN:STANDARD
TZOFFSETFROM:-0500
TZOFFSETTO:-0600
TZNAME:CST
DTSTART:20261101T070000
END:STANDARD
BEGIN:DAYLIGHT
TZOFFSETFROM:-0600
TZOFFSETTO:-0500
TZNAME:CDT
DTSTART:20270314T080000
END:DAYLIGHT
BEGIN:STANDARD
TZOFFSETFROM:-0500
TZOFFSETTO:-0600
TZNAME:CST
DTSTART:20271107T070000
END:STANDARD
END:VTIMEZONE
BEGIN:VEVENT
DTSTART;VALUE=DATE:20260220
DTEND;VALUE=DATE:20260221
DTSTAMP:20260423T224157
CREATED:20251230T001801Z
LAST-MODIFIED:20251230T002121Z
UID:3893-1771545600-1771631999@onlinewriterworkshops.com
SUMMARY:Covers That Sell: The Psychology of Romance Book Covers
DESCRIPTION:Judging a book by its cover is an old cliche\, but there’s truth in it. Covers are often the first impression for your readers. In this webinar\, a former psychology teacher will explain principles of marketing psychology\, elaborate on the specific ins and outs of creating romance covers that attract reader attention\, and advise how to use cues like color\, font\, and imagery to lead readers to set reader expectations and get that purchase. \n\nAbout the Instructor\nMargaret Bates graduated Magna Cum Laude from Duke University with a B.A. in psychology and a minor in lemur biology. Additionally\, they were ABD while studying toward their Ph.D. in childhood development at The University of Alabama at Birmingham and hold a master’s degree in industrial/organizational psychology from the University of Baltimore. They have decades of experience in academic writing and editing. Also\, they have worked with creative writing students as well as undergraduate and graduate students at the University of Baltimore’s writing center as an on-staff writing tutor. \nCurrently\, they have returned to academia and are earning a master’s in professional writing from Towson University. Their research focus areas include both the ramifications of tropes in romance as well as how romance readers’ personal values drive their book-purchasing decisions. They also work with the Towson University Business Department as a writing tutor. \nPlatform: Zoom \nRegistration: Register here
URL:https://onlinewriterworkshops.com/event/covers-that-sell-the-psychology-of-romance-book-covers/
LOCATION:Zoom
ATTACH;FMTTYPE=image/jpeg:https://onlinewriterworkshops.com/wp-content/uploads/2025/12/Covers-That-Sell-The-Psychology-of-Romance-Book-Covers-1.jpg
END:VEVENT
END:VCALENDAR